BEGIN:VCALENDAR
VERSION:2.0
PRODID:-//CXBerlin - ECPv6.15.20//NONSGML v1.0//EN
CALSCALE:GREGORIAN
METHOD:PUBLISH
X-ORIGINAL-URL:https://cxberlin.net
X-WR-CALDESC:Veranstaltungen für CXBerlin
REFRESH-INTERVAL;VALUE=DURATION:PT1H
X-Robots-Tag:noindex
X-PUBLISHED-TTL:PT1H
BEGIN:VTIMEZONE
TZID:UTC
BEGIN:STANDARD
TZOFFSETFROM:+0000
TZOFFSETTO:+0000
TZNAME:UTC
DTSTART:20250101T000000
END:STANDARD
END:VTIMEZONE
BEGIN:VEVENT
DTSTART;VALUE=DATE:20260726
DTEND;VALUE=DATE:20260731
DTSTAMP:20260419T152944
CREATED:20251105T144910Z
LAST-MODIFIED:20251105T145447Z
UID:16409-1785024000-1785455999@cxberlin.net
SUMMARY:Supergrevet: Distanzradfahrt Wien → Triest (2026)
DESCRIPTION:Vom Wiener Becken über die Bucklige Welt\, Fischbacher Alpen und Soboth bis an die Adria. Forstwege\, Grenzstraßen\, alte Bahntrassen und der Parenzana-Trail führen durch stille Gebirge und trockene Karsttäler bis ans Meer. \nDatum: Samstag\, 25. Juli 2026Start: Wien (Inzersdorf)\, ÖsterreichZiel: Triest (Molo Audace)\, ItalienDistanz: ca. 650 kmHöhenmeter: ca. 14.000 mFormat: Selbstunterstützt / Non-Stop / GruppenstartUntergrund: Asphalt\, Schotter\, Alpenausläufer\, Karst\, Bahntrassen \nCharakter:Alpin\, einsam\, fordernd. Lange Steigungen\, wechselnde Witterung\, spärliche Infrastruktur – ideal für erfahrene Langstreckenfahrer:innen mit solider Eigenversorgung. \nAusrüstungsempfehlung:Gravelbike mit niedriger Übersetzung und robusten 40–45 mm Reifen. Starke Beleuchtung für Nacht- und Tunnelsektionen. \nHistorischer Bezug:Fortführung der Supergrevet-Idee entlang historischer Ost-West-Routen zwischen Alpen und Adria. \nWeitere Infos & Anmeldung:🔗 supergrevet.grevet.de
URL:https://cxberlin.net/event/supergrevet-distanzradfahrt-wien-%e2%86%92-triest-2026/
LOCATION:Wien
ATTACH;FMTTYPE=image/png:https://cxberlin.net/wp-content/uploads/2025/11/2.png
END:VEVENT
END:VCALENDAR