BEGIN:VCALENDAR
VERSION:2.0
PRODID:-//CXBerlin - ECPv6.15.20//NONSGML v1.0//EN
CALSCALE:GREGORIAN
METHOD:PUBLISH
X-WR-CALNAME:CXBerlin
X-ORIGINAL-URL:https://cxberlin.net
X-WR-CALDESC:Veranstaltungen für CXBerlin
REFRESH-INTERVAL;VALUE=DURATION:PT1H
X-Robots-Tag:noindex
X-PUBLISHED-TTL:PT1H
BEGIN:VTIMEZONE
TZID:UTC
BEGIN:STANDARD
TZOFFSETFROM:+0000
TZOFFSETTO:+0000
TZNAME:UTC
DTSTART:20250101T000000
END:STANDARD
END:VTIMEZONE
BEGIN:VEVENT
DTSTART;TZID=UTC:20260605T080000
DTEND;TZID=UTC:20260621T170000
DTSTAMP:20260419T135440
CREATED:20260401T145909Z
LAST-MODIFIED:20260401T145909Z
UID:16723-1780646400-1782061200@cxberlin.net
SUMMARY:Grevet #3 '26 Berlin: Feuer aus der Tiefe: Das Lausitzer Braunkohlerevier
DESCRIPTION:Hier wurde der Körper der Erde geöffnet. Kohle\, Hitze\, Leere – und dann Wasser. \nDiese Etappe zeigt\, was passiert\, wenn der Mensch tiefer eingreift als geplant
URL:https://cxberlin.net/event/grevet-3-26-berlin-feuer-aus-der-tiefe-das-lausitzer-braunkohlerevier/
ATTACH;FMTTYPE=image/webp:https://cxberlin.net/wp-content/uploads/2026/04/20250601-_DSC0267.webp
END:VEVENT
END:VCALENDAR